BEGIN:VCALENDAR
VERSION:2.0
PRODID:-//Plone.org//NONSGML plone.app.event//EN
X-WR-TIMEZONE:Europe/Vienna
BEGIN:VEVENT
SUMMARY:Fasnachtsumzug SJ 25/26
DTSTART;TZID=Europe/Vienna;VALUE=DATE-TIME:20260213T104500
DTEND;TZID=Europe/Vienna;VALUE=DATE-TIME:20260213T114500
DTSTAMP;VALUE=DATE-TIME:20260421T064517Z
UID:cbdef6c6975f4512935a0011ada3c637@127.0.0.1:10150
CREATED;VALUE=DATE-TIME:20260116T075524Z
LAST-MODIFIED;VALUE=DATE-TIME:20260116T075529Z
URL:https://www.schule-erlenstraesschen.ch/termine/fasnachtsumzug-sj-25-26
END:VEVENT
BEGIN:VTIMEZONE
TZID:Europe/Vienna
X-LIC-LOCATION:Europe/Vienna
BEGIN:STANDARD
DTSTART;VALUE=DATE-TIME:20251026T020000
TZNAME:CET
TZOFFSETFROM:+0200
TZOFFSETTO:+0100
END:STANDARD
END:VTIMEZONE
END:VCALENDAR
