BEGIN:VCALENDAR
VERSION:2.0
PRODID:-//Plone.org//NONSGML plone.app.event//EN
X-WR-TIMEZONE:Europe/Vienna
BEGIN:VEVENT
SUMMARY:Spielmorgen SJ 25/26
DTSTART;TZID=Europe/Vienna;VALUE=DATE-TIME:20260204T080000
DTEND;TZID=Europe/Vienna;VALUE=DATE-TIME:20260204T121500
DTSTAMP;VALUE=DATE-TIME:20260424T052019Z
UID:ee99a19e1f0644c382f040f454cda50e@127.0.0.1:10150
CREATED;VALUE=DATE-TIME:20260116T075438Z
LAST-MODIFIED;VALUE=DATE-TIME:20260116T075442Z
URL:https://www.schule-erlenstraesschen.ch/termine/spielmorgen-sj-25-26
END:VEVENT
BEGIN:VTIMEZONE
TZID:Europe/Vienna
X-LIC-LOCATION:Europe/Vienna
BEGIN:STANDARD
DTSTART;VALUE=DATE-TIME:20251026T020000
TZNAME:CET
TZOFFSETFROM:+0200
TZOFFSETTO:+0100
END:STANDARD
END:VTIMEZONE
END:VCALENDAR
